BEGIN:VCALENDAR
VERSION:2.0
CALSCALE:GREGORIAN
METHOD:PUBLISH
PRODID:-//www.duocongress.ca//DUO Congress//EN
SCALE:GREGORIAN
SOURCE;VALUE=URI:https://www.sitevision.ca/events/duo26/calendar.php?event=DUOCongress2026&type=outlook
TIMEZONE:UTC
BEGIN:VEVENT
UID:DUOCongress2026@duocongress.ca
DTSTART:20260423T113000Z
DTEND:20260425T210000Z
CREATED:20260419T143145Z
DESCRIPTION:Save the date! Join us for the DUO Congress
  in Toronto on April 23-25, 2026.
 Link: https://www.duocongress.ca/
DTSTAMP:20260419T143145Z
LOCATION:Toronto\, ON\, Canada
SUMMARY:DUO Congress
URL:https://www.duocongress.ca/
END:VEVENT
X-WR-TIMEZONE:UTC
END:VCALENDAR